BEGIN:VCALENDAR
VERSION:2.0
PRODID:Neville Richards Real Estate Open for Inspection - Great First Home
 or Investment Opportunity!!
BEGIN:VTIMEZONE
TZID:Australia/Melbourne
BEGIN:STANDARD
DTSTART:20210306T123000
TZOFFSETTO:+1100
TZNAME:GMT+11
END:STANDARD
END:VTIMEZONE
BEGIN:VEVENT
UID:603d1b03721c8
DTSTART;TZID=Australia/Melbourne:20210306T123000
SEQUENCE:0
TRANSP:OPAQUE
DTEND;TZID=Australia/Melbourne:20210306T130000
LOCATION:31 Coorumby Avenue Clifton Springs VIC
SUMMARY:Neville Richards Real Estate Open for Inspection - 31 Coorumby
 Avenue Clifton Springs VIC
CLASS:PUBLIC
DESCRIPTION:Open for Inspection: 31 Coorumby Avenue Clifton Springs VIC
 Saturday 6th Mar 12:30pm - 13:00pm Click the link for full listing
 information:
 https://www.nevillerichards.com.au/sale/vic/geelong-district/clifton-springs/residential/house/6315838
DTSTAMP:20210301T164907
END:VEVENT
END:VCALENDAR