BEGIN:VCALENDAR
VERSION:2.0
PRODID:Neville Richards Real Estate Open for Inspection - Fabulous
 Four-bedroom Home
BEGIN:VTIMEZONE
TZID:Australia/Melbourne
BEGIN:STANDARD
DTSTART:20210314T112000
TZOFFSETTO:+1100
TZNAME:GMT+11
END:STANDARD
END:VTIMEZONE
BEGIN:VEVENT
UID:603d1b0fe32b0
DTSTART;TZID=Australia/Melbourne:20210314T112000
SEQUENCE:0
TRANSP:OPAQUE
DTEND;TZID=Australia/Melbourne:20210314T114000
LOCATION:20 Matilda Street St Leonards VIC
SUMMARY:Neville Richards Real Estate Open for Inspection - 20 Matilda
 Street St Leonards VIC
CLASS:PUBLIC
DESCRIPTION:Open for Inspection: 20 Matilda Street St Leonards VIC Sunday
 14th Mar 11:20am - 11:40am Click the link for full listing information:
 https://www.nevillerichards.com.au/sale/vic/geelong-district/st-leonards/residential/house/6129919
DTSTAMP:20210301T164919
END:VEVENT
END:VCALENDAR